Package: philr
Version: 1.30.0
Command: /home/biocbuild/R/R-beta-2024-04-15_r86425/bin/R CMD INSTALL philr
StartedAt: 2024-05-08 20:20:04 -0000 (Wed, 08 May 2024)
EndedAt: 2024-05-08 20:20:16 -0000 (Wed, 08 May 2024)
EllapsedTime: 12.3 seconds
RetCode: 0
Status: OK