Package: philr Version: 1.30.0 Command: /home/biocbuild/R/R-beta-2024-04-15_r86425/bin/R CMD check --install=check:philr.install-out.txt --library=/home/biocbuild/R/R-beta-2024-04-15_r86425/site-library --no-vignettes --timings philr_1.30.0.tar.gz StartedAt: 2024-05-09 10:31:02 -0000 (Thu, 09 May 2024) EndedAt: 2024-05-09 10:32:54 -0000 (Thu, 09 May 2024) EllapsedTime: 112.2 seconds RetCode: 0 Status: OK CheckDir: philr.Rcheck Warnings: 0