Package: philr Version: 1.30.0 Command: /Library/Frameworks/R.framework/Resources/bin/R CMD check --install=check:philr.install-out.txt --library=/Library/Frameworks/R.framework/Resources/library --no-vignettes --timings philr_1.30.0.tar.gz StartedAt: 2024-06-11 01:19:11 -0400 (Tue, 11 Jun 2024) EndedAt: 2024-06-11 01:21:50 -0400 (Tue, 11 Jun 2024) EllapsedTime: 159.2 seconds RetCode: 0 Status: OK CheckDir: philr.Rcheck Warnings: 0