Package: philr Version: 1.30.0 Command: /Library/Frameworks/R.framework/Resources/bin/R CMD build --keep-empty-dirs --no-resave-data philr StartedAt: 2024-06-10 02:33:16 -0400 (Mon, 10 Jun 2024) EndedAt: 2024-06-10 02:34:09 -0400 (Mon, 10 Jun 2024) EllapsedTime: 52.9 seconds RetCode: 0 Status: OK PackageFile: philr_1.30.0.tar.gz PackageFileSize: 520 KiB