Package: philr Version: 1.30.0 Command: /Library/Frameworks/R.framework/Resources/bin/R CMD INSTALL philr StartedAt: 2024-10-16 16:56:58 -0400 (Wed, 16 Oct 2024) EndedAt: 2024-10-16 16:57:10 -0400 (Wed, 16 Oct 2024) EllapsedTime: 12.2 seconds RetCode: 0 Status: OK