Package: philr Version: 1.30.0 Maintainer: Justin Silverman MaintainerEmail: jsilve24 at gmail.com git_url: https://git.bioconductor.org/packages/philr git_branch: RELEASE_3_19 git_last_commit: b35219f git_last_commit_date: 2024-04-30 10:53:22 -0400 (Tue, 30 Apr 2024)