Package: phenopath Version: 1.28.0 Command: chmod a+r phenopath -R && E:\biocbuild\bbs-3.19-bioc\R\bin\R.exe CMD build --keep-empty-dirs --no-resave-data phenopath StartedAt: 2024-10-16 21:05:46 -0400 (Wed, 16 Oct 2024) EndedAt: 2024-10-16 21:06:44 -0400 (Wed, 16 Oct 2024) EllapsedTime: 57.6 seconds RetCode: 0 Status: OK PackageFile: phenopath_1.28.0.tar.gz PackageFileSize: 1.101 MiB