Package: phenomis Version: 1.6.4 Command: E:\biocbuild\bbs-3.19-bioc\R\bin\R.exe CMD check --no-multiarch --install=check:phenomis.install-out.txt --library=E:\biocbuild\bbs-3.19-bioc\R\library --no-vignettes --timings phenomis_1.6.4.tar.gz StartedAt: 2024-10-17 04:25:56 -0400 (Thu, 17 Oct 2024) EndedAt: 2024-10-17 04:33:04 -0400 (Thu, 17 Oct 2024) EllapsedTime: 428.5 seconds RetCode: 0 Status: OK CheckDir: phenomis.Rcheck Warnings: 0