Package: phenomis Version: 1.6.4 Command: chmod a+r phenomis -R && E:\biocbuild\bbs-3.19-bioc\R\bin\R.exe CMD build --keep-empty-dirs --no-resave-data phenomis StartedAt: 2024-10-16 21:05:40 -0400 (Wed, 16 Oct 2024) EndedAt: 2024-10-16 21:08:57 -0400 (Wed, 16 Oct 2024) EllapsedTime: 197.4 seconds RetCode: 0 Status: OK PackageFile: phenomis_1.6.4.tar.gz PackageFileSize: 2.31 MiB