Package: phenomis Version: 1.6.4 Command: rm -rf phenomis.buildbin-libdir && mkdir phenomis.buildbin-libdir && E:\biocbuild\bbs-3.19-bioc\R\bin\R.exe CMD INSTALL --build --library=phenomis.buildbin-libdir phenomis_1.6.4.tar.gz StartedAt: 2024-10-17 08:20:39 -0400 (Thu, 17 Oct 2024) EndedAt: 2024-10-17 08:21:49 -0400 (Thu, 17 Oct 2024) EllapsedTime: 70.3 seconds RetCode: 0 Status: OK PackageFile: phenomis_1.6.4.zip PackageFileSize: 2.349 MiB