Package: phenomis Version: 1.6.0 Command: rm -rf phenomis.buildbin-libdir && mkdir phenomis.buildbin-libdir && F:\biocbuild\bbs-3.19-bioc\R\bin\R.exe CMD INSTALL --build --library=phenomis.buildbin-libdir phenomis_1.6.0.tar.gz StartedAt: 2024-06-27 08:40:13 -0400 (Thu, 27 Jun 2024) EndedAt: 2024-06-27 08:41:08 -0400 (Thu, 27 Jun 2024) EllapsedTime: 55.0 seconds RetCode: 0 Status: OK PackageFile: phenomis_1.6.0.zip PackageFileSize: 2.348 MiB