Package: phenomis Version: 1.6.0 Command: /Library/Frameworks/R.framework/Resources/bin/R CMD build --keep-empty-dirs --no-resave-data phenomis StartedAt: 2024-06-09 17:42:41 -0400 (Sun, 09 Jun 2024) EndedAt: 2024-06-09 17:44:46 -0400 (Sun, 09 Jun 2024) EllapsedTime: 125.2 seconds RetCode: 0 Status: OK PackageFile: phenomis_1.6.0.tar.gz PackageFileSize: 3.935 MiB