Package: phenomis Version: 1.6.0 Command: /home/biocbuild/R/R-beta-2024-04-15_r86425/bin/R CMD build --keep-empty-dirs --no-resave-data phenomis StartedAt: 2024-05-09 02:29:25 -0000 (Thu, 09 May 2024) EndedAt: 2024-05-09 02:31:41 -0000 (Thu, 09 May 2024) EllapsedTime: 135.2 seconds RetCode: 0 Status: OK PackageFile: phenomis_1.6.0.tar.gz PackageFileSize: 2.062 MiB