Package: phenomis Version: 1.6.4 Maintainer: Etienne A. Thevenot MaintainerEmail: etienne.thevenot at cea.fr git_url: https://git.bioconductor.org/packages/phenomis git_branch: RELEASE_3_19 git_last_commit: 9b78508 git_last_commit_date: 2024-09-02 10:48:05 -0400 (Mon, 02 Sep 2024)