Package: phenoTest Version: 1.52.0 Command: E:\biocbuild\bbs-3.19-bioc\R\bin\R.exe CMD INSTALL phenoTest StartedAt: 2024-10-16 16:58:40 -0400 (Wed, 16 Oct 2024) EndedAt: 2024-10-16 16:59:44 -0400 (Wed, 16 Oct 2024) EllapsedTime: 63.8 seconds RetCode: 0 Status: OK