Package: phenoTest Version: 1.52.0 Command: /home/biocbuild/bbs-3.19-bioc/R/bin/R CMD check --install=check:phenoTest.install-out.txt --library=/home/biocbuild/bbs-3.19-bioc/R/site-library --timings phenoTest_1.52.0.tar.gz StartedAt: 2024-10-17 03:43:44 -0400 (Thu, 17 Oct 2024) EndedAt: 2024-10-17 03:47:21 -0400 (Thu, 17 Oct 2024) EllapsedTime: 216.5 seconds RetCode: 0 Status: OK CheckDir: phenoTest.Rcheck Warnings: 0