Package: phenoTest Version: 1.52.0 Command: /home/biocbuild/bbs-3.19-bioc/R/bin/R CMD build --keep-empty-dirs --no-resave-data phenoTest StartedAt: 2024-10-16 20:07:51 -0400 (Wed, 16 Oct 2024) EndedAt: 2024-10-16 20:08:53 -0400 (Wed, 16 Oct 2024) EllapsedTime: 62.2 seconds RetCode: 0 Status: OK PackageFile: phenoTest_1.52.0.tar.gz PackageFileSize: 1.096 MiB