Package: phenoTest Version: 1.52.0 Command: /home/biocbuild/R/R-beta-2024-04-15_r86425/bin/R CMD INSTALL phenoTest StartedAt: 2024-05-08 20:49:08 -0000 (Wed, 08 May 2024) EndedAt: 2024-05-08 20:49:53 -0000 (Wed, 08 May 2024) EllapsedTime: 45.6 seconds RetCode: 0 Status: OK