Package: phenoTest Version: 1.52.0 Command: /Library/Frameworks/R.framework/Resources/bin/R CMD check --install=check:phenoTest.install-out.txt --library=/Library/Frameworks/R.framework/Resources/library --no-vignettes --timings phenoTest_1.52.0.tar.gz StartedAt: 2024-10-18 07:24:24 -0400 (Fri, 18 Oct 2024) EndedAt: 2024-10-18 07:28:33 -0400 (Fri, 18 Oct 2024) EllapsedTime: 248.8 seconds RetCode: 0 Status: OK CheckDir: phenoTest.Rcheck Warnings: 0