Package: phenoTest Version: 1.52.0 Command: /Library/Frameworks/R.framework/Resources/bin/R CMD build --keep-empty-dirs --no-resave-data phenoTest StartedAt: 2024-10-17 06:24:52 -0400 (Thu, 17 Oct 2024) EndedAt: 2024-10-17 06:26:00 -0400 (Thu, 17 Oct 2024) EllapsedTime: 67.6 seconds RetCode: 0 Status: OK PackageFile: phenoTest_1.52.0.tar.gz PackageFileSize: 1.273 MiB