Package: phemd Version: 1.20.0 Command: chmod a+r phemd -R && E:\biocbuild\bbs-3.19-bioc\R\bin\R.exe CMD build --keep-empty-dirs --no-resave-data phemd StartedAt: 2024-10-16 21:05:11 -0400 (Wed, 16 Oct 2024) EndedAt: 2024-10-16 21:06:20 -0400 (Wed, 16 Oct 2024) EllapsedTime: 69.8 seconds RetCode: 1 Status: ERROR PackageFile: None PackageFileSize: NA