Package: phemd Version: 1.20.0 Command: /home/biocbuild/bbs-3.19-bioc/R/bin/R CMD INSTALL phemd StartedAt: 2024-10-16 16:33:43 -0400 (Wed, 16 Oct 2024) EndedAt: 2024-10-16 16:34:26 -0400 (Wed, 16 Oct 2024) EllapsedTime: 42.4 seconds RetCode: 0 Status: OK