Package: phemd Version: 1.20.0 Command: /Library/Frameworks/R.framework/Resources/bin/R CMD INSTALL phemd StartedAt: 2024-10-16 16:27:53 -0400 (Wed, 16 Oct 2024) EndedAt: 2024-10-16 16:29:34 -0400 (Wed, 16 Oct 2024) EllapsedTime: 101.1 seconds RetCode: 0 Status: OK