Package: phemd Version: 1.20.0 Command: /Library/Frameworks/R.framework/Resources/bin/R CMD build --keep-empty-dirs --no-resave-data phemd StartedAt: 2024-10-16 22:03:19 -0400 (Wed, 16 Oct 2024) EndedAt: 2024-10-16 22:06:30 -0400 (Wed, 16 Oct 2024) EllapsedTime: 191.5 seconds RetCode: 1 Status: ERROR PackageFile: None PackageFileSize: NA