Package: phemd Version: 1.20.0 Command: /Library/Frameworks/R.framework/Resources/bin/R CMD build --keep-empty-dirs --no-resave-data phemd StartedAt: 2024-10-17 06:23:21 -0400 (Thu, 17 Oct 2024) EndedAt: 2024-10-17 06:24:35 -0400 (Thu, 17 Oct 2024) EllapsedTime: 74.2 seconds RetCode: 1 Status: ERROR PackageFile: None PackageFileSize: NA