Package: phantasusLite Version: 1.2.0 Command: E:\biocbuild\bbs-3.19-bioc\R\bin\R.exe CMD check --no-multiarch --install=check:phantasusLite.install-out.txt --library=E:\biocbuild\bbs-3.19-bioc\R\library --no-vignettes --timings phantasusLite_1.2.0.tar.gz StartedAt: 2024-10-17 04:25:40 -0400 (Thu, 17 Oct 2024) EndedAt: 2024-10-17 04:29:14 -0400 (Thu, 17 Oct 2024) EllapsedTime: 215.0 seconds RetCode: 0 Status: OK CheckDir: phantasusLite.Rcheck Warnings: 0