Package: phantasusLite Version: 1.2.0 Command: /home/biocbuild/bbs-3.19-bioc/R/bin/R CMD INSTALL phantasusLite StartedAt: 2024-10-16 15:54:07 -0400 (Wed, 16 Oct 2024) EndedAt: 2024-10-16 15:54:24 -0400 (Wed, 16 Oct 2024) EllapsedTime: 17.3 seconds RetCode: 0 Status: OK