Package: phantasusLite Version: 1.2.0 Command: /Library/Frameworks/R.framework/Resources/bin/R CMD build --keep-empty-dirs --no-resave-data phantasusLite StartedAt: 2024-10-16 22:02:50 -0400 (Wed, 16 Oct 2024) EndedAt: 2024-10-16 22:04:57 -0400 (Wed, 16 Oct 2024) EllapsedTime: 127.0 seconds RetCode: 0 Status: OK PackageFile: phantasusLite_1.2.0.tar.gz PackageFileSize: 233.3 KiB