Package: phantasus Version: 1.24.0 Command: chmod a+r phantasus -R && E:\biocbuild\bbs-3.19-bioc\R\bin\R.exe CMD build --keep-empty-dirs --no-resave-data phantasus StartedAt: 2024-10-16 21:04:37 -0400 (Wed, 16 Oct 2024) EndedAt: 2024-10-16 21:05:31 -0400 (Wed, 16 Oct 2024) EllapsedTime: 53.8 seconds RetCode: 0 Status: OK PackageFile: phantasus_1.24.0.tar.gz PackageFileSize: 9.543 MiB