Package: phantasus Version: 1.24.0 Command: rm -rf phantasus.buildbin-libdir && mkdir phantasus.buildbin-libdir && E:\biocbuild\bbs-3.19-bioc\R\bin\R.exe CMD INSTALL --build --library=phantasus.buildbin-libdir phantasus_1.24.0.tar.gz StartedAt: 2024-10-17 08:20:32 -0400 (Thu, 17 Oct 2024) EndedAt: 2024-10-17 08:22:35 -0400 (Thu, 17 Oct 2024) EllapsedTime: 123.3 seconds RetCode: 0 Status: OK PackageFile: phantasus_1.24.0.zip PackageFileSize: 8.313 MiB