Package: phantasus Version: 1.24.0 Command: /home/biocbuild/bbs-3.19-bioc/R/bin/R CMD build --keep-empty-dirs --no-resave-data phantasus StartedAt: 2024-10-16 20:06:55 -0400 (Wed, 16 Oct 2024) EndedAt: 2024-10-16 20:07:26 -0400 (Wed, 16 Oct 2024) EllapsedTime: 31.1 seconds RetCode: 0 Status: OK PackageFile: phantasus_1.24.0.tar.gz PackageFileSize: 9.543 MiB