Package: phantasus Version: 1.24.0 Command: /Library/Frameworks/R.framework/Resources/bin/R CMD check --install=check:phantasus.install-out.txt --library=/Library/Frameworks/R.framework/Resources/library --no-vignettes --timings phantasus_1.24.0.tar.gz StartedAt: 2024-10-18 07:18:14 -0400 (Fri, 18 Oct 2024) EndedAt: 2024-10-18 07:24:24 -0400 (Fri, 18 Oct 2024) EllapsedTime: 370.5 seconds RetCode: 0 Status: OK CheckDir: phantasus.Rcheck Warnings: 0