Package: phantasus Version: 1.24.0 Command: /Library/Frameworks/R.framework/Resources/bin/R CMD build --keep-empty-dirs --no-resave-data phantasus StartedAt: 2024-10-17 06:21:46 -0400 (Thu, 17 Oct 2024) EndedAt: 2024-10-17 06:22:32 -0400 (Thu, 17 Oct 2024) EllapsedTime: 46.6 seconds RetCode: 0 Status: OK PackageFile: phantasus_1.24.0.tar.gz PackageFileSize: 9.544 MiB