Package: pgxRpi Version: 1.0.3 Command: F:\biocbuild\bbs-3.19-bioc\R\bin\R.exe CMD INSTALL pgxRpi StartedAt: 2024-06-26 16:50:30 -0400 (Wed, 26 Jun 2024) EndedAt: 2024-06-26 16:50:38 -0400 (Wed, 26 Jun 2024) EllapsedTime: 7.9 seconds RetCode: 0 Status: OK