Package: pgxRpi Version: 1.0.3 Command: rm -rf pgxRpi.buildbin-libdir && mkdir pgxRpi.buildbin-libdir && F:\biocbuild\bbs-3.19-bioc\R\bin\R.exe CMD INSTALL --build --library=pgxRpi.buildbin-libdir pgxRpi_1.0.3.tar.gz StartedAt: 2024-06-27 08:40:04 -0400 (Thu, 27 Jun 2024) EndedAt: 2024-06-27 08:40:21 -0400 (Thu, 27 Jun 2024) EllapsedTime: 16.9 seconds RetCode: 0 Status: OK PackageFile: pgxRpi_1.0.3.zip PackageFileSize: 1.395 MiB