Package: pgxRpi Version: 1.0.5 Command: /home/biocbuild/bbs-3.19-bioc/R/bin/R CMD INSTALL pgxRpi StartedAt: 2024-10-16 16:44:47 -0400 (Wed, 16 Oct 2024) EndedAt: 2024-10-16 16:44:50 -0400 (Wed, 16 Oct 2024) EllapsedTime: 3.0 seconds RetCode: 0 Status: OK