Package: pgxRpi Version: 1.0.5 Command: /home/biocbuild/bbs-3.19-bioc/R/bin/R CMD check --install=check:pgxRpi.install-out.txt --library=/home/biocbuild/bbs-3.19-bioc/R/site-library --timings pgxRpi_1.0.5.tar.gz StartedAt: 2024-10-17 03:42:51 -0400 (Thu, 17 Oct 2024) EndedAt: 2024-10-17 03:50:54 -0400 (Thu, 17 Oct 2024) EllapsedTime: 483.1 seconds RetCode: 0 Status: OK CheckDir: pgxRpi.Rcheck Warnings: 0