Package: pgxRpi Version: 1.0.5 Command: /Library/Frameworks/R.framework/Resources/bin/R CMD INSTALL pgxRpi StartedAt: 2024-10-16 16:47:14 -0400 (Wed, 16 Oct 2024) EndedAt: 2024-10-16 16:47:22 -0400 (Wed, 16 Oct 2024) EllapsedTime: 7.7 seconds RetCode: 0 Status: OK