Package: pgxRpi Version: 1.0.5 Command: /Library/Frameworks/R.framework/Resources/bin/R CMD build --keep-empty-dirs --no-resave-data pgxRpi StartedAt: 2024-10-16 22:02:39 -0400 (Wed, 16 Oct 2024) EndedAt: 2024-10-16 22:17:23 -0400 (Wed, 16 Oct 2024) EllapsedTime: 883.5 seconds RetCode: 0 Status: OK PackageFile: pgxRpi_1.0.5.tar.gz PackageFileSize: 3.765 MiB