Package: pgxRpi Version: 1.0.1 Command: /Library/Frameworks/R.framework/Resources/bin/R CMD INSTALL pgxRpi StartedAt: 2024-06-09 15:42:13 -0400 (Sun, 09 Jun 2024) EndedAt: 2024-06-09 15:42:18 -0400 (Sun, 09 Jun 2024) EllapsedTime: 4.7 seconds RetCode: 0 Status: OK