Package: pgxRpi Version: 1.0.1 Command: /Library/Frameworks/R.framework/Resources/bin/R CMD build --keep-empty-dirs --no-resave-data pgxRpi StartedAt: 2024-06-09 17:42:26 -0400 (Sun, 09 Jun 2024) EndedAt: 2024-06-09 17:49:16 -0400 (Sun, 09 Jun 2024) EllapsedTime: 409.9 seconds RetCode: 0 Status: OK PackageFile: pgxRpi_1.0.1.tar.gz PackageFileSize: 3.708 MiB