Package: pgxRpi Version: 1.0.1 Command: rm -rf pgxRpi.buildbin-libdir && mkdir pgxRpi.buildbin-libdir && /Users/biocbuild/BBS/utils/build-universal.sh pgxRpi_1.0.1.tar.gz /Library/Frameworks/R.framework/Resources/bin/R pgxRpi.buildbin-libdir StartedAt: 2024-06-10 00:32:01 -0400 (Mon, 10 Jun 2024) EndedAt: 2024-06-10 00:32:07 -0400 (Mon, 10 Jun 2024) EllapsedTime: 6.8 seconds RetCode: 0 Status: OK PackageFile: pgxRpi_1.0.1.tgz PackageFileSize: 3.797 MiB