Package: pgxRpi Version: 1.0.1 Command: /home/biocbuild/R/R-beta-2024-04-15_r86425/bin/R CMD check --install=check:pgxRpi.install-out.txt --library=/home/biocbuild/R/R-beta-2024-04-15_r86425/site-library --no-vignettes --timings pgxRpi_1.0.1.tar.gz StartedAt: 2024-05-09 10:30:41 -0000 (Thu, 09 May 2024) EndedAt: 2024-05-09 10:34:39 -0000 (Thu, 09 May 2024) EllapsedTime: 237.5 seconds RetCode: 0 Status: OK CheckDir: pgxRpi.Rcheck Warnings: 0