Package: pgxRpi Version: 1.0.1 Command: /home/biocbuild/R/R-beta-2024-04-15_r86425/bin/R CMD build --keep-empty-dirs --no-resave-data pgxRpi StartedAt: 2024-05-09 02:28:56 -0000 (Thu, 09 May 2024) EndedAt: 2024-05-09 02:38:47 -0000 (Thu, 09 May 2024) EllapsedTime: 590.9 seconds RetCode: 0 Status: OK PackageFile: pgxRpi_1.0.1.tar.gz PackageFileSize: 1.881 MiB