Package: pgxRpi Version: 1.0.1 Command: /Library/Frameworks/R.framework/Resources/bin/R CMD check --install=check:pgxRpi.install-out.txt --library=/Library/Frameworks/R.framework/Resources/library --no-vignettes --timings pgxRpi_1.0.1.tar.gz StartedAt: 2024-06-11 01:09:57 -0400 (Tue, 11 Jun 2024) EndedAt: 2024-06-11 01:13:34 -0400 (Tue, 11 Jun 2024) EllapsedTime: 216.5 seconds RetCode: 0 Status: OK CheckDir: pgxRpi.Rcheck Warnings: 0