Package: pgxRpi Version: 1.0.1 Command: rm -rf pgxRpi.buildbin-libdir && mkdir pgxRpi.buildbin-libdir && /Users/biocbuild/BBS/utils/build-universal.sh pgxRpi_1.0.1.tar.gz /Library/Frameworks/R.framework/Resources/bin/R pgxRpi.buildbin-libdir StartedAt: 2024-06-11 12:30:26 -0400 (Tue, 11 Jun 2024) EndedAt: 2024-06-11 12:30:35 -0400 (Tue, 11 Jun 2024) EllapsedTime: 8.7 seconds RetCode: 0 Status: OK PackageFile: pgxRpi_1.0.1.tgz PackageFileSize: 3.797 MiB