Package: pgxRpi Version: 1.0.5 Command: rm -rf pgxRpi.buildbin-libdir && mkdir pgxRpi.buildbin-libdir && /Users/biocbuild/BBS/utils/build-universal.sh pgxRpi_1.0.5.tar.gz /Library/Frameworks/R.framework/Resources/bin/R pgxRpi.buildbin-libdir StartedAt: 2024-10-18 19:55:57 -0400 (Fri, 18 Oct 2024) EndedAt: 2024-10-18 19:56:04 -0400 (Fri, 18 Oct 2024) EllapsedTime: 6.9 seconds RetCode: 0 Status: OK PackageFile: pgxRpi_1.0.5.tgz PackageFileSize: 3.863 MiB