Package: pgca Version: 1.28.0 Command: /Library/Frameworks/R.framework/Resources/bin/R CMD INSTALL pgca StartedAt: 2024-10-16 15:07:26 -0400 (Wed, 16 Oct 2024) EndedAt: 2024-10-16 15:08:08 -0400 (Wed, 16 Oct 2024) EllapsedTime: 41.7 seconds RetCode: 0 Status: OK