Package: pgca Version: 1.28.0 Command: /home/biocbuild/R/R-beta-2024-04-15_r86425/bin/R CMD build --keep-empty-dirs --no-resave-data pgca StartedAt: 2024-05-09 02:28:50 -0000 (Thu, 09 May 2024) EndedAt: 2024-05-09 02:28:56 -0000 (Thu, 09 May 2024) EllapsedTime: 6.0 seconds RetCode: 0 Status: OK PackageFile: pgca_1.28.0.tar.gz PackageFileSize: 217.4 KiB