Package: pgca Version: 1.28.0 Command: /Library/Frameworks/R.framework/Resources/bin/R CMD check --install=check:pgca.install-out.txt --library=/Library/Frameworks/R.framework/Resources/library --no-vignettes --timings pgca_1.28.0.tar.gz StartedAt: 2024-10-18 07:17:01 -0400 (Fri, 18 Oct 2024) EndedAt: 2024-10-18 07:17:32 -0400 (Fri, 18 Oct 2024) EllapsedTime: 31.5 seconds RetCode: 0 Status: OK CheckDir: pgca.Rcheck Warnings: 0